BEGIN:VCALENDAR
VERSION:2.0
PRODID:-//Squarespace Inc/Squarespace 6//v6//EN
BEGIN:VEVENT
UID:5761138bb6aa60920158c529@squarespace.com
DTSTAMP:20160801T134823Z
DTSTART:20160801T090000Z
DTEND:20160831T100000Z
SUMMARY:SALA LIGHT PAINTING EXHIBITION
GEO:-34.510269;138.969671
LOCATION:Peter Lehmann Wines\, Para Road\, Tanunda\, SA\, 5352\, Australia
END:VEVENT
END:VCALENDAR
