BEGIN:VCALENDAR
VERSION:2.0
PRODID:-//Squarespace Inc/Squarespace 6//v6//EN
BEGIN:VEVENT
UID:578b281e03596ee713677034@squarespace.com
DTSTAMP:20160801T133447Z
DTSTART:20160819T080000Z
DTEND:20160821T140000Z
SUMMARY:SALA LIGHT PAINTING WORKSHOPS
GEO:-34.510269;138.969671
LOCATION:Peter Lehmann Wines\, Para Road\, Tanunda\, SA\, 5352\, Australia
END:VEVENT
END:VCALENDAR
