BEGIN:VCALENDAR
VERSION:2.0
PRODID:-//Squarespace Inc/Squarespace 6//v6//EN
BEGIN:VEVENT
UID:579f40661b631bd12f10c142@squarespace.com
DTSTAMP:20160801T133554Z
DTSTART:20160909T083000Z
DTEND:20160909T143000Z
SUMMARY:LIVING LIGHT WORKSHOPS - GEELONG
GEO:-38.144848;144.36023
LOCATION:Brougham Street\, Geelong\, VIC\, 3220\, Australia
END:VEVENT
END:VCALENDAR
